Workbook

Sheet 申込リスト
A1: リーフレットからのお申込み
B2: ①御担当者様情報 | D2: ■必須記入項目
B3: 会社名
B4: 住所
B5: 担当者
B6: メールアドレス
B7: 電話番号
B10: ②受験者情報 | D10: ■に各級の受講者数を記入して下さい（必須項目です）
D11: 価格 | E11: 人数 | F11: 受験料合計 | G11: 消費税（10％） | H11: 合計金額
B12: 2級受験者数 | D12: 30000 | F12: =D12*E12 -> 0 | G12: =F12*0.1 -> 0 | H12: =SUM(F12:G13) -> 0
B13: 1級受験者数 | D13: 100000 | F13: =D13*E13 -> 0 | G13: =F13*0.1 -> 0 | I13: （受講条件）2級に合格している
D14: 計 | E14: =SUM(E12:E13) -> 0
B16: ③受験者リスト | D16: ■必須記入項目、■任意 | G16: プルダウンより選択
B17: No. | C17: 氏名 | D17: 氏名（ふりがな） | E17: 所属 | F17: メールアドレス | G17: 受験する 検定のレベル | H17: 価格 （定価） | I17: アカウント有無 （検定チャレンジ実施済みの方）
B18: 1 | H18: =VLOOKUP(G18,使用禁止!$B$2:$C$3,2,FALSE) -> #N/A
B19: 2 | H19: =VLOOKUP(G19,使用禁止!$B$2:$C$3,2,FALSE) -> #N/A
B20: 3 | H20: =VLOOKUP(G20,使用禁止!$B$2:$C$3,2,FALSE) -> #N/A
B21: 4 | H21: =VLOOKUP(G21,使用禁止!$B$2:$C$3,2,FALSE) -> #N/A
B22: 5 | H22: =VLOOKUP(G22,使用禁止!$B$2:$C$3,2,FALSE) -> #N/A
B23: 6 | H23: =VLOOKUP(G23,使用禁止!$B$2:$C$3,2,FALSE) -> #N/A
B24: 7 | H24: =VLOOKUP(G24,使用禁止!$B$2:$C$3,2,FALSE) -> #N/A
B25: 8 | H25: =VLOOKUP(G25,使用禁止!$B$2:$C$3,2,FALSE) -> #N/A
B26: 9 | H26: =VLOOKUP(G26,使用禁止!$B$2:$C$3,2,FALSE) -> #N/A
B27: 10 | H27: =VLOOKUP(G27,使用禁止!$B$2:$C$3,2,FALSE) -> #N/A
B28: 11 | H28: =VLOOKUP(G28,使用禁止!$B$2:$C$3,2,FALSE) -> #N/A
B29: 12 | H29: =VLOOKUP(G29,使用禁止!$B$2:$C$3,2,FALSE) -> #N/A
... B67: 50 | H67: =VLOOKUP(G67,使用禁止!$B$2:$C$3,2,FALSE) -> #N/A
B68: 申込者が50名を超える場合はお手数ですがセルを追加して入力下さい

Sheet 記入例
B2: ①御担当者様情報 | D2: 企業単位で複数のお申込をされる場合はご担当者情報の記入をお願いいたします（個人でお申込の方は②へお進みください）
B3: 会社名 | D3: プロマネ製菓株式会社
B4: 住所 | D4: 大阪府大阪市中央区１－２３－４ プロマネビル501
B5: 担当者 | D5: 食品 桃子
B6: メールアドレス | D6: momoko.shokuhin@gmail.com
B7: 電話番号 | D7: 09-8765-4321
B9: ②受験者情報
C10: ■に各級の受講者数を記入して下さい（必須項目です）
D11: 価格(税抜) | E11: 人数 | F11: 受験料合計 | G11: 消費税（10％） | H11: 合計金額
B12: 2級受験者数 | D12: 30000 | E12: 2 | F12: =D12*E12 -> 60000 | G12: =F12*0.1 -> 6000 | H12: =SUM(F12:G13) -> 176000
B13: 1級受験者数 | D13: 100000 | E13: 1 | F13: =D13*E13 -> 100000 | G13: =F13*0.1 -> 10000 | I13: （受講条件）2級に合格している
D14: 合計 | E14: =SUM(E12:E13) -> 3
B15: ③受験者リスト
C16: ■必須記入項目、■任意 | G16: プルダウンより選択
B17: No. | C17: 氏名 | D17: 氏名（ふりがな） | E17: 所属 | F17: メールアドレス | G17: 受験する 検定のレベル | H17: 価格 （定価） | I17: アカウントネーム （既に取得している場合のみ）
B18: 1 | C18: 食品 太郎 | D18: しょくひん たろう | E18: 製造 | F18: tarou.shokuhin@gmail.com | G18: 2級 | H18: =VLOOKUP(G18,使用禁止!$B$2:$C$3,2,FALSE) -> 30000
B19: 2 | C19: 食品 花子 | D19: しょくひん はなこ | E19: 営業 | F19: hanako.shokuhin@gmail.com | G19: 2級 | H19: =VLOOKUP(G19,使用禁止!$B$2:$C$3,2,FALSE) -> 30000
B20: 3 | C20: 食品 次郎 | D20: しょくひん じろう | E20: 品質管理 | F20: jirou.shokuhin@gmail.com | G20: 1級 | H20: =VLOOKUP(G20,使用禁止!$B$2:$C$3,2,FALSE) -> 100000 | I20: jirou_shokuhin
G21: 合計 | H21: =SUM(H18:H20) -> 160000

Sheet 使用禁止
B2: 2級 | C2: 30000
B3: 1級 | C3: 100000
